BEGIN:VCALENDAR
VERSION:2.0
PRODID:-//Educație înțeleaptă - ECPv6.15.18//NONSGML v1.0//EN
CALSCALE:GREGORIAN
METHOD:PUBLISH
X-WR-CALNAME:Educație înțeleaptă
X-ORIGINAL-URL:https://educatieinteleapta.com
X-WR-CALDESC:Evenimente pentru Educație înțeleaptă
REFRESH-INTERVAL;VALUE=DURATION:PT1H
X-Robots-Tag:noindex
X-PUBLISHED-TTL:PT1H
BEGIN:VTIMEZONE
TZID:Europe/Bucharest
BEGIN:DAYLIGHT
TZOFFSETFROM:+0200
TZOFFSETTO:+0300
TZNAME:EEST
DTSTART:20240331T010000
END:DAYLIGHT
BEGIN:STANDARD
TZOFFSETFROM:+0300
TZOFFSETTO:+0200
TZNAME:EET
DTSTART:20241027T010000
END:STANDARD
BEGIN:DAYLIGHT
TZOFFSETFROM:+0200
TZOFFSETTO:+0300
TZNAME:EEST
DTSTART:20250330T010000
END:DAYLIGHT
BEGIN:STANDARD
TZOFFSETFROM:+0300
TZOFFSETTO:+0200
TZNAME:EET
DTSTART:20251026T010000
END:STANDARD
BEGIN:DAYLIGHT
TZOFFSETFROM:+0200
TZOFFSETTO:+0300
TZNAME:EEST
DTSTART:20260329T010000
END:DAYLIGHT
BEGIN:STANDARD
TZOFFSETFROM:+0300
TZOFFSETTO:+0200
TZNAME:EET
DTSTART:20261025T010000
END:STANDARD
END:VTIMEZONE
BEGIN:VEVENT
DTSTART;TZID=Europe/Bucharest:20251031T173000
DTEND;TZID=Europe/Bucharest:20251102T190000
DTSTAMP:20260422T214035
CREATED:20251006T060823Z
LAST-MODIFIED:20251028T210826Z
UID:10000026-1761931800-1762110000@educatieinteleapta.com
SUMMARY:Workshop intensiv de Constelații Familiale Sistemice - Timișoara: 31 oct.-2 noi.
DESCRIPTION:Te invit la un workshop intensiv dacă ești hotarat(ă) să îți rezolvi o problemă arzătoare\, să te deblochezi sau să-ți (re)pornești procesele interioare de vindecare – începând cu seara de Haloween\, vineri\, 31 octombrie de la 17:30.\nExperiența va fi tot palpitantă\, emoționantă\, incitantă și captivantă dar\, spre deosebire de o simplă petrecere de Haloween\, pe lângă că va dura mult mai mult\, va fi despre noi inșine\, cu blândețe și în siguranță\, și va fi vindecătoare\, revelatoare și deblocantă – spre o viață mai cu sens\, conștientă\, fericită și împlinită. \nFiecare participant care îți dorește va ajunge să își lucreze intenția/problema\, și în plus toți participanții vor putea beneficia de lucrul pe întreg parcursul workshopului\, de fiecare terapie individuală. Deseori chiar terapia altora\, la care participăm cu inima deschisă\, este mai profundă și vindecătoare decât propria terapie. \nMetoda Constelațiilor Familiale Sistemice este eficientă și versatilă; are are aplicabilitate universală\, cu ea noi fiind capabili să lucrăm eficient la absolut orice probleme de-ale noastre și cu orice sisteme\, nu doar cele familiale. Deoarece multe din problemele noastre nu pot fi rezolvate la nivelul la care ele apar\, prin metoda Constelațiilor noi urcăm la nivelul în care ele își pot găsi\, în sfârșit\, rezolvarea.\nMai mult decât o terapie eficientă care cuprinde o multitudine de aspecte eficiente din diverse abordări psihoterapeutice\, Constelațiile Familiale Sistemice sunt o formă experiențială și practică de educație înțeleaptă – atât la nivel mental\, cât și la nivel sufletesc\, psihic\, emoțional (https://educatieinteleapta.com/educatie-inteleapta…/). \nCe este caracteristic felului cum lucrez eu cu această metodă este blândețea\, respectul și profunzimea. De-asemenea\, pentru că mulți dintre noi avem traume încă nerezolvate – ale noastre sau preluate de la cei dinaintea noastră – în acest workshop\, deși în grup\, vom lucra într-un mediu de deplină siguranță.\nDeoarece corpul nostru fizic este cel mai aproape de adevăr și comunică continuu prin poziție\, senzații\, emoții și sentimente\, vom lucra mai ales experiențial\, la nivel sufletesc\, emoțional și somatic. \nPentru înscrieri și alte detalii: tel. 0724083243\, www.EducatieInteleapta.com \nCând: vineri 31 octombrie (17:30-21:30)\, sâmbătă 1 noiembrie (10:00-20:30) și duminică 2 noiembrie (9:30-19:00).\nVom avea mai multe pauze scurte cu cafea\, ceai\, fructe și ronțăieli sărate și dulci. Duminică vom avea și o mică pauză de prânz de 1 ora\, în care unii vom mânca ce ne aducem de acasă (inclusiv cei care au regimuri mai speciale) iar alții ne comandăm prânzul.\nNe vom simți ca acasă și în siguranță\, vom sta mult pe scaune și uneori în picioare\, deci îmbrăcați-vă comod. \nVârsta minimă participant: 18 ani\nNumăr maxim de participanți: 12\nLocația: Timișoara\, Wise Education – str. Mitropolit Varlaam nr.19. \nCost fără reduceri: 920 lei (22 ore de lucru) \nOfer una din următoarele reduceri:\n• Cei care își doresc mult să vină dar nu au posibilitatea să participe toate trei zilele: mă puteți contacta telefonic sau pe WhatsApp ca să găsim o soluție și să le fac o reducere.\n• reducere de 35% pentru al doilea membru foarte apropiat din sistemul familial (partener de cuplu\, fiu/fiică\, frate/soră\, părinte\, unchi/mătușă\, nepot/nepoată de unchi/mătușă)\, pentru pensionari sau pentru studenți până la 26 ani;\n• reducere de 15% pentru o verișoară primară sau un văr primar;\n• reducere de 10% pentru o altă rudă\, prietenă sau un prieten;\n• reducere de 15% pentru participanții care își continuă lucrul după workshopurile sau grupurile mele de lucru cu metoda Constelațiilor;\n• reducere specială pentru cei care urmează programul meu de Formare de Facilitatori în Constelații Familiale Sistemice.\nCei care au mari probleme financiare dar și-ar dori mult să participe\, mă pot contacta telefonic ca să discutăm cum găsim o posibilitate ca totuși să poată participa. \nTe aștept cu drag (și) dacă acum ai curajul să ieși din zona de suferință – chiar dacă în această zonă poate te simți confortabil\, familiar și într-un fel în siguranță. \nTeodor. \nPentru înscrieri și alte detalii: tel. 0724083243\, www.EducatieInteleapta.com. \n––––\nMi-am început munca de dezvoltare personală cu Constelațiile Familiale Sistemice in 2007. Din 2017 ofer servicii de terapie (de grup și individual) cu această metodă\, iar din martie am început și un program de Formare/Training de terapeuți/facilitatori cu metoda. Mai multe detalii despre mine\, munca mea\, precum și despre Constelațiile Familiale le poți găsi pe website-ul meu la www.EducatieInteleapta.com. \nGrupul privat de Constelatii Familiale Sistemice cu Teodor pe fb este aici: https://www.facebook.com/groups/220258292083670 \nPsihoterapeutul Bert Hellinger a dezvoltat metoda terapeutică a Constelațiilor Familiale (în traducere corectă din germană ”Poziționări în spațiu ale membrilor familiei”) pornind de la experiența sa îndelungată în lucrul cu oamenii\, și apoi aducând împreună tot ceea ce a găsit el mai eficient în diversele abordări psihoterapeutice (psihoterapia sistemică\, gestalt\, integrativă\, analiza tranzacțională\, psihanaliza\, psihodrama\, psihoterapiile familiale și transgeneraționale\, NLP\, primal scream\, etc.) parcurse în cei 15 ani de formare a sa ca psihoterapeut – aceasta fiind după cei peste 20 de ani de bogată experiență a sa ca preot catolic. Apoi el a îmbunătățit continuu această metodă\, conform cu rezultatele obținute în practica sa de multe decenii de mare succes cu ea.\nÎn decursul anilor\, terapia constelațiilor\, mai ales datorită realizărilor deosebite\, a devenit recunoscută și răspândită în toată lumea. În Brazilia\, Constelațiile familiale sistemice sunt deja folosite oficial în sistemul judiciar și de sănătate\, iar în Germania\, Austria și Africa de Sud metoda Constelațiilor este utilizată nu doar în terapie\, ci și în procese oficiale de mediere și soluționare a conflictelor.\nDenumirea de “constelații” are de-a face cu faptul că metoda presupune\, printre multe altele\, și o așezare/poziționare în spațiu (în sala de workshop) a unor participanți din grup\, fiecare reprezentând ceva important pentru intenția clientului (de ex. o persoană precum mama\, tata\, copilul\, fratele clientului\, sau altele\, precum simptomul\, boala\, sufletul\, partea traumatizată a clientului\, sau un secret\, comunismul\, o nedreptate\, etc.). În funcție de poziționarea inițială a reprezentanților de către client\, precum și de mișcarea lor liberă ulterioară\, se conturează imagini cu sens pentru client și cei prezenți\, aceste imagini/poziționări în spațiu fiind numite și “constelații”. \nConstelațiile Familiale Sistemice reprezintă o metodă puternică de investigație și transformare. Ea dezvăluie dinamica inconștientă a sistemelor din care facem parte. Putând observa disfuncțiile dintr-un sistem\, prin intermediul metodei putem apoi readuce ordinea\, echilibrul și liniștea în acel sistem.\nEvenimentele grele neprocesate sau neechilibrate din trecutul nostru sau al sistemului nostru familial sunt adesea cauza și explicația comportamentelor noastre și a copiilor noștri. Atât traumele noastre\, cât și poverile și traumele pe care inconștient le-am preluat de la alții\, mai ales de la cei din familia noastră\, se manifestă în viața noastră mai ales ca tipare nocive\, într-un fel nesănătos de-a funcționa. Aceste tipare ne împiedică să ne trăim fericiți și împliniți viața – în schimb ne determină inconștient să manifestăm probleme precum anxietăți\, depresii\, dependențe\, emoții puternice inexplicabile care ne vin ca din senin\, suferințe sufletești\, simptome fizice\, boli\, atracția spre persoane și situații care ne aduc suferință\, insuccese\, blocaje\, etc. \nExemple de evenimente grele din trecutul sistemului nostru de familie (de pildă în care au fost implicați frați\, surori\, părinți\, unchi\, bunici\, străbunici\, sau parteneri anteriori) care ne pot afecta profund puteți găsi aici: https://educatieinteleapta.com/evenimente-grele-care-ne…/. \nSuccinte informații despre traume și transmiterea lor intergenerațională puteți găsi și aici: https://educatieinteleapta.com/traume-si-transmiterea…/ \nTestimoniale ale celor care au participat deja la Constelații cu mine puteți găsi aici: https://educatieinteleapta.com/testimoniale/
URL:https://educatieinteleapta.com/eveniment/workshop-intensiv-de-constelatii-familiale-sistemice-timisoara-31-oct-2-noi/
LOCATION:Timis
ATTACH;FMTTYPE=image/jpeg:https://educatieinteleapta.com/wp-content/uploads/2025/10/AdobeStock_228548583.jpg
ORGANIZER;CN="Wise Education":MAILTO:teodor.ciomocos@gmail.com
END:VEVENT
END:VCALENDAR