BEGIN:VCALENDAR
VERSION:2.0
PRODID:-//Educație înțeleaptă - ECPv6.15.18//NONSGML v1.0//EN
CALSCALE:GREGORIAN
METHOD:PUBLISH
X-WR-CALNAME:Educație înțeleaptă
X-ORIGINAL-URL:https://educatieinteleapta.com
X-WR-CALDESC:Evenimente pentru Educație înțeleaptă
REFRESH-INTERVAL;VALUE=DURATION:PT1H
X-Robots-Tag:noindex
X-PUBLISHED-TTL:PT1H
BEGIN:VTIMEZONE
TZID:Europe/Bucharest
BEGIN:DAYLIGHT
TZOFFSETFROM:+0200
TZOFFSETTO:+0300
TZNAME:EEST
DTSTART:20240331T010000
END:DAYLIGHT
BEGIN:STANDARD
TZOFFSETFROM:+0300
TZOFFSETTO:+0200
TZNAME:EET
DTSTART:20241027T010000
END:STANDARD
BEGIN:DAYLIGHT
TZOFFSETFROM:+0200
TZOFFSETTO:+0300
TZNAME:EEST
DTSTART:20250330T010000
END:DAYLIGHT
BEGIN:STANDARD
TZOFFSETFROM:+0300
TZOFFSETTO:+0200
TZNAME:EET
DTSTART:20251026T010000
END:STANDARD
BEGIN:DAYLIGHT
TZOFFSETFROM:+0200
TZOFFSETTO:+0300
TZNAME:EEST
DTSTART:20260329T010000
END:DAYLIGHT
BEGIN:STANDARD
TZOFFSETFROM:+0300
TZOFFSETTO:+0200
TZNAME:EET
DTSTART:20261025T010000
END:STANDARD
END:VTIMEZONE
BEGIN:VEVENT
DTSTART;TZID=Europe/Bucharest:20250913T140000
DTEND;TZID=Europe/Bucharest:20250914T190000
DTSTAMP:20260423T004048
CREATED:20250814T182920Z
LAST-MODIFIED:20251006T055404Z
UID:10000025-1757772000-1757876400@educatieinteleapta.com
SUMMARY:Workshop de Constelații Familiale Sistemice
DESCRIPTION:Mai mult decât o terapie eficientă – care cuprinde o multitudine de aspecte eficiente din mai multe abordări psihoterapeutice – Constelațiile Familiale Sistemice sunt o formă experiențială și practică de educație înțeleaptă\, atât la nivel mental\, cât și la nivel sufletesc\, psihic\, emoțional (https://educatieinteleapta.com/educatie-inteleapta-constelatii-familiale-sistemice/). \nAcest workshop este pentru tine dacă dorești să te vindeci\, să te deblochezi\, să-ți trăiești cu mai multă bucurie și pace viața\, sau să-ți rezolvi o problemă grea. Această metodă are aplicabilitate universală\, cu ea noi fiind capabili să lucrăm eficient la absolut orice probleme de-ale noastre și cu orice sisteme\, nu doar cele familiale. \nDeoarece multe din problemele noastre nu pot fi rezolvate la nivelul la care ele apar\, prin metoda Constelațiilor noi urcăm la nivelul în care ele își pot găsi\, în sfârșit\, rezolvarea. \nVindecarea\, deblocarea şi rezolvarea au nevoie de structură\, relații sănătoase\, spațiu\, siguranță\, informație şi timp – așa că workshopurile facilitate de mine oferă structura și relaționarea necesară\, spațiul securizant potrivit\, dezvăluie adevărurile relevante care lipsesc şi asigură răgazul necesar mișcărilor sufleteşti vindecătoare. Vom lucra mai ales experiențial\, emoțional și somatic. \nFiecare constelație ne va ajuta mult pe toți cei prezenți – deseori chiar terapia altora\, la care participăm cu inima deschisă\, poate fi mai profundă și vindecătoare decât propria terapie. \nPentru înscrieri și alte detalii: tel. 0724083243\, www.EducatieInteleapta.com \nCând: sâmbătă 13 septembrie (14:00-21:00) și duminică 14 septembrie (10:00-19:00).\nVom avea mai multe pauze scurte cu cafea\, ceai și ronțăieli sărate și dulci. Duminică vom avea și o mică pauză de prânz (vreo 45-50 min.)\, în care unii vom mânca ce ne aducem de acasă (inclusiv cei care au regimuri mai speciale) iar alții ne comandăm prânzul.\nNe vom simți ca acasă și în siguranță\, vom sta mult pe scaune și uneori în picioare\, deci îmbrăcați-vă comod. \nVârsta minimă participant: 18 ani\nNumăr maxim de participanți: 14\nLocația: Timișoara\, Wise Education – str. Mitropolit Varlaam nr.19. \nCost: 750 lei \nOfer una din următoarele reduceri:\n• reducere de 30% pentru al doilea membru foarte apropiat din sistemul familial (partener de cuplu\, fiu/fiică\, frate/soră\, părinte\, unchi/mătușă\, nepot/nepoată de unchi/mătușă)\, pentru pensionari sau pentru studenți până la 26 ani;\n• reducere de 15% pentru o verișoară primară sau un văr primar;\n• reducere de 15% pentru participanții care își continuă lucrul după workshopurile sau grupurile mele de lucru cu metoda Constelațiilor.\nCei care au mari probleme financiare dar și-ar dori mult să participe\, mă pot contacta telefonic ca să discutăm cum găsim o posibilitate ca totuși să poată participa. \nTe aștept cu drag\,\nTeodor. \nPentru înscrieri și alte detalii: tel. 0724083243\, www.EducatieInteleapta.com
URL:https://educatieinteleapta.com/eveniment/workshop-de-constelatii-familiale-sistemice-5/
LOCATION:Wise Education\, str. Mitropolit Varlaam nr. 19\, TIMISOARA\, Timis\, 300693\, Romania
ATTACH;FMTTYPE=image/jpeg:https://educatieinteleapta.com/wp-content/uploads/2025/08/shutterstock_224551468-scaled.jpg
ORGANIZER;CN="Wise Education":MAILTO:teodor.ciomocos@gmail.com
END:VEVENT
END:VCALENDAR