BEGIN:VCALENDAR
VERSION:2.0
PRODID:-//Educație înțeleaptă - ECPv6.15.18//NONSGML v1.0//EN
CALSCALE:GREGORIAN
METHOD:PUBLISH
X-WR-CALNAME:Educație înțeleaptă
X-ORIGINAL-URL:https://educatieinteleapta.com
X-WR-CALDESC:Evenimente pentru Educație înțeleaptă
REFRESH-INTERVAL;VALUE=DURATION:PT1H
X-Robots-Tag:noindex
X-PUBLISHED-TTL:PT1H
BEGIN:VTIMEZONE
TZID:Europe/Bucharest
BEGIN:DAYLIGHT
TZOFFSETFROM:+0200
TZOFFSETTO:+0300
TZNAME:EEST
DTSTART:20230326T010000
END:DAYLIGHT
BEGIN:STANDARD
TZOFFSETFROM:+0300
TZOFFSETTO:+0200
TZNAME:EET
DTSTART:20231029T010000
END:STANDARD
BEGIN:DAYLIGHT
TZOFFSETFROM:+0200
TZOFFSETTO:+0300
TZNAME:EEST
DTSTART:20240331T010000
END:DAYLIGHT
BEGIN:STANDARD
TZOFFSETFROM:+0300
TZOFFSETTO:+0200
TZNAME:EET
DTSTART:20241027T010000
END:STANDARD
BEGIN:DAYLIGHT
TZOFFSETFROM:+0200
TZOFFSETTO:+0300
TZNAME:EEST
DTSTART:20250330T010000
END:DAYLIGHT
BEGIN:STANDARD
TZOFFSETFROM:+0300
TZOFFSETTO:+0200
TZNAME:EET
DTSTART:20251026T010000
END:STANDARD
END:VTIMEZONE
BEGIN:VEVENT
DTSTART;VALUE=DATE:20240914
DTEND;VALUE=DATE:20240916
DTSTAMP:20260425T194121
CREATED:20240819T133457Z
LAST-MODIFIED:20240925T125800Z
UID:10000001-1726272000-1726444799@educatieinteleapta.com
SUMMARY:Constelații Familiale Sistemice - Workshop Intensiv
DESCRIPTION:Te invit la un nou workshop intensiv – doar dacă ești pregătit/ă să îți rezolvi o problemă arzătoare\, să te deblochezi sau să-ți (re)pornești procesele interioare de vindecare.\nFolosind complexa metodă a terapiei sistemică a Constelațiilor Familiale vom lucra eficient dar cu blândețe la rezolvare și/sau vindecare. În plus\, fiecare terapie ne va ajuta mult pe toți cei prezenți. Și deoarece corpul nostru fizic este cel mai aproape de adevăr și ne comunică continuu prin poziție\, senzații\, emoții și sentimente\, vom lucra mai ales experiențial\, la nivel emoțional și somatic. \nTerapia sistemică a Constelațiilor Familiale are aplicabilitate universală\, cu ea noi fiind capabili să lucrăm eficient la absolut orice probleme de-ale noastre și cu orice sisteme\, nu doar cele familiale. Izolarea este una din marile iluzii moderne. În realitate sistemele conțin totul și ele influențează totul. Suferințele și lucrurile neechilibrate referitoare la un individ devin ale sistemului\, și deci toți cei din sistem sunt afectați\, mai mult sau mai puțin\, de ele. Suferințele și aspectele neechilibrate ale fiecărui membru/individ devin ale sistemului\, și deci apoi toți cei din sistem sunt afectați\, mai mult sau mai puțin\, de ele. De aceea noi\, din păcate\, suferim adesea doar din necunoaștere – deoarece cauzele suferințelor noastre ne sunt\, deseori\, inconștiente. Deci cu ajutorul Constelațiilor potențialul de a ieși din suferință inclusiv prin scoaterea adevărului la lumină este foarte mare. Pentru cei dintre noi care avem copii\, un motiv în plus să ne rezolvăm problemele emoționale/sufletești este următorul: copiii\, din păcate\, preiau inconștient toate cele cărora părinții nu le pot face față într-un mod sănătos. \nÎn plus\, cu ajutorul acestei terapii putem lucra eficient și la celelalte cauze ale afecțiunilor fizice și psihice\, a suferințelor\, neîmplinirilor\, fricilor\, necazurilor sau blocajelor noastre. Putem lucra\, de exemplu\, spre vindecarea traumelor noastre\, la procesarea sănătoasă a marilor noastre pierderi\, precum și la echilibrarea sau deblocarea altor aspecte din viața noastră prezentă. \nVindecarea\, deblocarea şi rezolvarea au nevoie de structură\, relații sănătoase\, spațiu\, informaţie şi timp – așa că workshopurile de terapie facilitate de mine oferă structura și relaționarea necesară\, spațiul securizant potrivit\, dezvăluie adevărurile care lipsesc şi asigură răgazul necesar mișcărilor sufleteşti vindecătoare. \nPentru înscrieri și alte detalii: tel. 0724083243. \nCând: sâmbătă\, 14 septembrie (10:00-21:00) și duminică\, 15 septembrie 2024 (10:00-19:00) – cu un total de 19 ore de lucru. Zilnic vom avea pauze scurte cu apă\, cafea\, fructe și mici gustări sărate și dulci\, precum și o pauza de prânz de 30 minute la locație (pt. care comandăm online sau ne aducem de acasă fiecare ce vrea). Ne vom simți ca acasă și în siguranță\, vom sta mult pe scaun sau perne și uneori în picioare\, deci îmbrăcați-vă comod. \nTotal participanți: max. 12 persoane\nVârsta minimă participant: 18 ani\nNotă: fiecare participant va ajunge să își lucreze intenția/problema\, și în plus toți vom putea beneficia de lucrul pe întreg parcursul workshopului\, de fiecare terapie individuală.\nLocația: str. Mitropolit Varlaam nr.19\, Timișoara (sediul ”Wise Education”). \nCost: 750 lei.\nOfer una din următoarele reduceri:\n– reducere de 25% pentru al doilea membru foarte apropiat din sistemul familial (partener de cuplu\, fiu/fiică\, frate/soră\, părinte\, unchi/mătușă\, nepot/nepoată de unchi/mătușă)\, pentru pensionari sau pentru studenți până la 26 ani;\n– reducere de 15% pentru participanții care își continuă lucrul după workshopurile mele (sau grupurile mele săptămânale de terapie) de după septembrie 2023\, 10% reducere pentru participanții dinainte. \nCei care au mari probleme financiare dar și-ar dori mult să participe\, mă pot contacta telefonic ca să discutăm cum să găsim o posibilitate ca totuși să poată participa. \nMi-am început munca personală cu terapia Constelațiilor Familiale în 2007\, iar din 2010 mi-am început și formările în această metodă\, cu mai multi experți psihoterapeuți și medici din diverse țări.\nDin 2017 ofer terapii sistemice cu metoda Constelațiilor Familiale\, de grup și individuale\, și sunt în continuă specializare avansată. \nVă aștept cu drag!\nTeodor Ciomocoș\, tel. 0724083243.
URL:https://educatieinteleapta.com/eveniment/eveniment-test-1/
LOCATION:Wise Education\, str. Mitropolit Varlaam nr. 19\, TIMISOARA\, Timis\, 300693\, Romania
ATTACH;FMTTYPE=image/jpeg:https://educatieinteleapta.com/wp-content/uploads/2024/08/PAINTING-3-min-scaled.avif
ORGANIZER;CN="Wise Education":MAILTO:teodor.ciomocos@gmail.com
END:VEVENT
END:VCALENDAR