BEGIN:VCALENDAR
VERSION:2.0
PRODID:-//Educație înțeleaptă - ECPv6.15.18//NONSGML v1.0//EN
CALSCALE:GREGORIAN
METHOD:PUBLISH
X-ORIGINAL-URL:https://educatieinteleapta.com
X-WR-CALDESC:Evenimente pentru Educație înțeleaptă
REFRESH-INTERVAL;VALUE=DURATION:PT1H
X-Robots-Tag:noindex
X-PUBLISHED-TTL:PT1H
BEGIN:VTIMEZONE
TZID:Europe/Bucharest
BEGIN:DAYLIGHT
TZOFFSETFROM:+0200
TZOFFSETTO:+0300
TZNAME:EEST
DTSTART:20230326T010000
END:DAYLIGHT
BEGIN:STANDARD
TZOFFSETFROM:+0300
TZOFFSETTO:+0200
TZNAME:EET
DTSTART:20231029T010000
END:STANDARD
BEGIN:DAYLIGHT
TZOFFSETFROM:+0200
TZOFFSETTO:+0300
TZNAME:EEST
DTSTART:20240331T010000
END:DAYLIGHT
BEGIN:STANDARD
TZOFFSETFROM:+0300
TZOFFSETTO:+0200
TZNAME:EET
DTSTART:20241027T010000
END:STANDARD
BEGIN:DAYLIGHT
TZOFFSETFROM:+0200
TZOFFSETTO:+0300
TZNAME:EEST
DTSTART:20250330T010000
END:DAYLIGHT
BEGIN:STANDARD
TZOFFSETFROM:+0300
TZOFFSETTO:+0200
TZNAME:EET
DTSTART:20251026T010000
END:STANDARD
END:VTIMEZONE
BEGIN:VEVENT
DTSTART;TZID=Europe/Bucharest:20240608T100000
DTEND;TZID=Europe/Bucharest:20240609T140000
DTSTAMP:20260425T235734
CREATED:20240819T183138Z
LAST-MODIFIED:20240819T183138Z
UID:10000006-1717840800-1717941600@educatieinteleapta.com
SUMMARY:Workshop de Constelații Familiale Sistemice
DESCRIPTION:Prin terapiile sistemice\, precum Constelațiile Familiale\, putem ajunge împreună la deblocare\, rezolvare și vindecare – a noastră și celor apropiați nouă din sistemele noastre familiale. Constelațiile sunt o metodă puternică de investigație și transformare. Ele dezvăluie dinamica inconștientă a sistemelor din care facem parte – inclusiv legăturile noastre cu părinții și strămoșii\, care ne ghidează în viață mai mult decât ne putem imagina. Din practică s-a descoperit clar că noi tindem să repetăm destinele nefericite ale celor dinaintea noastră\, că o mare parte din ceea ce ni se întâmplă originează în cele trăite de cei dinaintea noastră din sistemul familial. Toate emoțiile nerezolvate sau neexprimate ale sistemului nostru familial\, precum și evenimentele grele neprocesate sau neechilibrate din trecut sunt adesea cauza și explicația comportamentelor noastre\, a părinților noștri și a copiilor noștri.Atât traumele noastre\, cât și poverile și traumele pe care inconștient le-am preluat de la alții\, mai ales de la cei din familia noastră\, se manifestă în viața noastră și ca tipare nocive\, într-un fel nesănătos de-a funcționa. Aceste tipare ne împiedică să ne trăim fericiți și împliniți viața – în schimb ne determină inconștient să manifestăm probleme precum anxietăți\, depresii\, dependențe\, emoții puternice inexplicabile care ne vin ca din senin\, suferințe sufletești\, simptome fizice\, boli\, atracția spre persoane și situații care ne aduc suferință\, blocaje\, etc.\nVindecarea\, deblocarea şi rezolvarea au nevoie de structură\, relații sănătoase\, spațiu\, informaţie şi timp – așa că workshopurile de terapie facilitate de mine oferă structura și relaționarea necesară\, spațiul securizant potrivit\, dezvăluie adevărurile care lipsesc şi asigură răgazul necesar mișcărilor sufleteşti vindecătoare.Pentru că mulți dintre noi mai avem traume încă nerezolvate – ale noastre sau preluate de la cei dinaintea noastră – în acest workshop\, deși în grup\, vom lucra într-un mediu de deplină siguranță.\nFiecare participant își va aduce spre rezolvare/vindecare o suferință\, o problemă majoră\, o dorință sau o intenție pe care o are în prezent. Folosind metoda terapiei sistemice a Constelațiilor familiale vom lucra cu blândețe la rezolvare și/sau vindecare\, spre realizarea intenției fiecăruia. În plus\, fiecare terapie ne va ajuta mult pe toți cei prezenți. Inclusiv deoarece corpul nostru fizic este cel mai aproape de adevăr – și ne comunică continuu prin poziție\, senzații\, emoții și sentimente – vom lucra mai ales experiențial\, la nivel sufletesc\, emoțional și somatic.\nPentru înscrieri și alte detalii: tel. 0724083243.\nCând: sâmbătă\, 8 iunie (10:00-21:00) și duminică\, 9 iunie 2024 (10:00-14:00) – cu un total de 14 ore de lucru. Zilnic vor fi pauze cu apă\, cafea\, fructe și mici gustări sărate și dulci. Ne vom simți ca acasă și în siguranță\, vom sta mult pe scaun sau perne și uneori în picioare\, deci îmbrăcați-vă comod.Total participanți: max. 12 persoaneVârsta minimă participant: 18 aniNotă: fiecare participant va ajunge să își lucreze intenția/problema\, și în plus toți vom putea beneficia de lucrul pe întreg parcursul workshopului\, de fiecare terapie individuală.Locația: str. Mitropolit Varlaam nr.19\, Timișoara (sediul ”Wise Education”).\nCost: 550 lei.Ofer una din următoarele reduceri:– reducere de 25% pentru al doilea membru foarte apropiat din sistemul familial (partener de cuplu\, fiu/fiică\, frate/soră\, părinte\, unchi/mătușă\, nepot/nepoată de unchi/mătușă)\, pentru pensionari sau pentru studenți până la 26 ani;– reducere de 15% pentru participanții care își continuă lucrul după workshopurile mele (sau grupurile mele săptămânale de terapie) de după septembrie 2023\, 10% reducere pentru participanții dintre ian. și sept. 2023\, precum și 5% reducere pentru particpanții din anii anteriori lui 2023.Cei care au mari probleme financiare dar și-ar dori mult să participe\, mă pot contacta telefonic ca să discutăm cum să găsim o posibilitate ca totuși să poată participa.\nMi-am început munca personală cu terapia Constelațiilor Familiale în 2007\, iar din 2010 mi-am început și formările în această metodă\, cu mai multi terapeuți experimentați din diverse țări. Din 2017 facilitez workshopuri de Constelații Familiale.\nVă aștept cu drag!Teodor Ciomocoș\, tel. 0724083243.
URL:https://educatieinteleapta.com/eveniment/workshop-de-constelatii-familiale-sistemice/
LOCATION:Timis
ATTACH;FMTTYPE=image/jpeg:https://educatieinteleapta.com/wp-content/uploads/2024/08/447889158_763800902593809_8770250677299715524_n-jpg.avif
END:VEVENT
BEGIN:VEVENT
DTSTART;TZID=Europe/Bucharest:20240512T150000
DTEND;TZID=Europe/Bucharest:20240609T200000
DTSTAMP:20260425T235734
CREATED:20241215T113621Z
LAST-MODIFIED:20241215T113621Z
UID:10000013-1715526000-1717963200@educatieinteleapta.com
SUMMARY:Nou grup săptămânal (duminica dupămasa) de terapie sistemică cu metoda Constelațiilor Familiale
DESCRIPTION:În perioada 12 mai – 9 iunie 2024 organizez un nou grup de lucru terapeutic\, profund și în siguranță\, cu metoda Constelațiilor Sistemice Familiale. Vom lucra împreună 3 duminici dupămasa-seara\, câte 5 ore\, o dată la 2 săptămâni.\nAcest grup de terapie este o nouă oportunitate pentru cei care doresc să lucreze serios la rezolvarea propriilor probleme/blocaje\, la vindecare și/sau la dezvoltare personală. În acest fel vom putea lucra împreună vreme de 4 săptămâni (3 întâlniri de grup) la rezolvarea unor mari probleme personale\, inclusiv de sănătate\, precum și la procese personale intense\, inclusiv traume proprii sau preluate inconștient de la alții.\nPentru înscrieri și întrebări: tel. 0724083243.\nDetalii importante:\n(1) Cu toții vom avea un total de 3 întâlniri săptămânale a câte 5 ore – duminica de la 15:00 la 20:00 – în datele de 12 și 26 mai\, precum și în 9 iunie (un total de 15 ore de lucru terapeutic în grup). Notă: observați că ne întâlnim din 2 în 2 săptămâni (deci în 19 mai și 2 iunie nu ne întâlnim).\n(2) Prima întâlnire săptămânală de grup: duminică 12 mai\, orele 15:00-20:00.\n(3) Între întâlniri vom avea teme de lucru individual și în perechi.\n(4) Voi fi disponibil pe email\, WhatsApp și telefon pentru întrebări și eventual sprijin urgent pe tot parcursul acestor 4 săptămâni.\n(5) Locația: Wise Education – Timișoara\, str. Mitropolit Varlaam nr.19.\n(6) Număr maxim de persoane în grup: 12.\n(7) Vârsta minimă: 18 ani.\nCost: 590 lei.\nPentru cei care plătesc integral până în 10 mai: 540 lei.\nMai ofer și una din următoarele reduceri:\n– reducere de 25% pentru pensionari sau pentru studenți până la 26 ani;\n– reducere de 20% pentru al doilea membru foarte apropiat din sistemul familial (partener de cuplu\, fiu/fiică\, frate/soră\, părinte\, unchi/mătușă\, nepot/nepoată de unchi/mătușă);\n– reducere de 15% pentru participanții care își continuă lucrul după workshopurile mele (sau grupurile mele săptămânale de terapie) de după septembrie 2023\, 10% reducere pentru participanții anteriori.\nCei care au mari probleme financiare dar și-ar dori mult să participe\, mă pot contacta telefonic ca să discutăm cum găsim o posibilitate ca totuși să poată participa.\nFolosind metoda terapiei sistemice a Constelațiilor Familiale vom lucra cu blândețe dar profund la rezolvare și/sau vindecare\, spre realizarea intenției/dorinței fiecărui participant. În plus\, fiecare terapie/ lucru personal ne va ajuta mult pe toți cei prezenți. Vom lucra mai ales la nivel sufletesc\, emoțional.\nMi-am început munca personală cu terapia Constelațiilor Familiale în 2007\, iar din 2010 mi-am început și formările în această metodă\, cu mai multi terapeuți experimentați din diverse țări (detalii mai jos). Din 2017 facilitez workshopuri de Constelații Familiale Sistemice.\nDeseori ne considerăm unicii creatori\, și prin urmare\, responsabili\, ai suferințelor\, necazurilor și nereușitelor din viața noastră. Dar practica de mai multe zeci de ani a Constelațiilor Sistemice a scos la iveală\, și ea\, că multe probleme de sănătate\, suferințe psihice\, eșecuri și temeri de-ale nostre – precum teama de-a ne trăi și iubi viața din plin – nu sunt exclusiv creațiile noastre\, ci pot fi consecințele (pe care le manifestăm inconștient) unor traume\, răni psihologice\, nedreptăți sau secrete de familie care s-au petrecut chiar înainte de nașterea noastră\, uneori cu zeci de ani înainte. S-a descoperit că\, din necunoaștere\, copiii deseori suferă – fără vină – consecințele a ceea ce au făcut\, sau nu\, părinții sau strămoșii lor. Prin Constelațiile Familiale Sistemice identificăm și rezolvăm aceste probleme.\nAtât traumele noastre\, cât și poverile și traumele pe care inconștient le-am preluat de la alții\, mai ales de la cei din familia noastră\, se manifestă în viața noastră ca tipare nocive\, într-un fel nesănătos de-a funcționa. Aceste tipare ne împiedică să ne trăim fericiți și împliniți viața – în schimb ne determină inconștient să manifestăm probleme precum anxietăți\, depresii\, dependențe\, emoții puternice inexplicabile care ne vin ca din senin\, suferințe sufletești\, simptome fizice\, boli\, atracția spre persoane și situații care ne aduc suferință\, etc.\nTerapia sistemică a Constelațiilor Familiale are potențialul de a ajunge la rădăcinile problemelor într-un timp scurt. Putem într-un mod înțelept ajunge la ceea ce nu putem vedea\, astfel inițiind vindecarea și rezolvarea. Constelațiile Familiale ne oferă posibilitatea de a vedea ceea ce este adânc ascuns în propriul nostru subconștient și în suflet. Ne oferă posibilitatea de a conștientiza – la nivel mental precum și sufletesc – și schimba tipare\, comportamente și credințe care ne mențin într-o stare nedorită\, care ne împiedică să ne bucurăm de viață. Constelațiile Familiale ne ajută să ne cunoaștem mai bine: să înțelegem\, de pildă\, de ce facem anumite lucruri care ne dăunează\, de ce suferim\, de ce suntem atrași în aceleași situații dureroase\, de ce nu reușim să ne trăim viața așa cum ne dorim.\nDenumirea de “constelații” are de-a face cu faptul că metoda presupune\, printre multe altele\, și o așezare în spațiu (în sala de workshop) a unor participanți din grup\, fiecare reprezentând ceva important pentru intenția clientului (de ex. o persoană precum mama\, tata\, copilul\, fratele clientului\, sau altele\, precum simptomul\, boala\, sufletul\, partea traumatizată a clientului\, sau un secret\, comunismul\, o nedreptate\, etc.). În funcție de poziționarea inițială a reprezentanților de către client\, precum și de mișcarea lor liberă ulterioară\, se conturează imagini cu sens pentru client și cei prezenți\, aceste imagini fiind numite și “constelații”.\nSănătatea fizică şi psihică/sufletească este o urmare directă a abilității noastre de a răspunde potrivit și fluid provocărilor vieții – în loc de-a reacționa la acestea. Suferințele fizice şi sufletești apar mai ales atunci când noi doar reacționăm (automat\, inconștient) la ceea ce ni se întâmplă – din tipare inconştiente de comportament\, din strategii vechi (acum neadecvate) de supraviețuire. Când reacţiile noastre nu sunt aproape deloc potrivite situației reale\, la origine avem de-a face cu traume\, procese sufletești neterminate sau incomplete\, sau încurcături sistemice.\nVindecarea\, deblocarea şi rezolvarea au nevoie de structură\, relații sănătoase\, spațiu\, informaţie şi timp – așa că workshopurile de terapie facilitate de mine oferă structura și relaționarea necesară\, spațiul securizant potrivit\, dezvăluie adevărurile care lipsesc şi asigură răgazul necesar mișcărilor sufleteşti vindecătoare.\nÎn acest grup de lucru terapeutic vom lucra în siguranță\, printre multe altele\, și spre vindecarea traumelor noastre\, deoarece cu această terapie ne simțim în siguranță\, păstrând distanță de traumă și accesând resurse. Bineînțeles că lucrăm și la vindecarea traumelor și gestionarea poverilor preluate de noi transgenerațional\, de la cei dinaintea noastră.\nVă aștept cu drag!\nTeodor Ciomocoș\, tel. 0724083243.
URL:https://educatieinteleapta.com/eveniment/nou-grup-saptamanal-duminica-dupamasa-de-terapie-sistemica-cu-metoda-constelatiilor-familiale/
LOCATION:Wise Education\, str. Mitropolit Varlaam nr. 19\, TIMISOARA\, Timis\, 300693\, Romania
ATTACH;FMTTYPE=image/jpeg:https://educatieinteleapta.com/wp-content/uploads/2024/12/12mai24.jpg
ORGANIZER;CN="Wise Education":MAILTO:teodor.ciomocos@gmail.com
END:VEVENT
END:VCALENDAR