BEGIN:VCALENDAR
VERSION:2.0
PRODID:-//Educație înțeleaptă - ECPv6.15.18//NONSGML v1.0//EN
CALSCALE:GREGORIAN
METHOD:PUBLISH
X-ORIGINAL-URL:https://educatieinteleapta.com
X-WR-CALDESC:Evenimente pentru Educație înțeleaptă
REFRESH-INTERVAL;VALUE=DURATION:PT1H
X-Robots-Tag:noindex
X-PUBLISHED-TTL:PT1H
BEGIN:VTIMEZONE
TZID:Europe/Bucharest
BEGIN:DAYLIGHT
TZOFFSETFROM:+0200
TZOFFSETTO:+0300
TZNAME:EEST
DTSTART:20240331T010000
END:DAYLIGHT
BEGIN:STANDARD
TZOFFSETFROM:+0300
TZOFFSETTO:+0200
TZNAME:EET
DTSTART:20241027T010000
END:STANDARD
BEGIN:DAYLIGHT
TZOFFSETFROM:+0200
TZOFFSETTO:+0300
TZNAME:EEST
DTSTART:20250330T010000
END:DAYLIGHT
BEGIN:STANDARD
TZOFFSETFROM:+0300
TZOFFSETTO:+0200
TZNAME:EET
DTSTART:20251026T010000
END:STANDARD
BEGIN:DAYLIGHT
TZOFFSETFROM:+0200
TZOFFSETTO:+0300
TZNAME:EEST
DTSTART:20260329T010000
END:DAYLIGHT
BEGIN:STANDARD
TZOFFSETFROM:+0300
TZOFFSETTO:+0200
TZNAME:EET
DTSTART:20261025T010000
END:STANDARD
BEGIN:DAYLIGHT
TZOFFSETFROM:+0200
TZOFFSETTO:+0300
TZNAME:EEST
DTSTART:20270328T010000
END:DAYLIGHT
BEGIN:STANDARD
TZOFFSETFROM:+0300
TZOFFSETTO:+0200
TZNAME:EET
DTSTART:20271031T010000
END:STANDARD
END:VTIMEZONE
BEGIN:VEVENT
DTSTART;TZID=Europe/Bucharest:20260320T153000
DTEND;TZID=Europe/Bucharest:20260321T210000
DTSTAMP:20260422T141227
CREATED:20260303T205314Z
LAST-MODIFIED:20260317T091518Z
UID:10000031-1774020600-1774126800@educatieinteleapta.com
SUMMARY:Constelații Familiale Sistemice - 20-21 martie 2026\, Oradea
DESCRIPTION:Workshopul este pentru tine dacă treci printr-o perioadă în care dorești să lucrezi eficient\, blând și profund cu tine\, pentru a merge direct la rădăcina marilor probleme și blocaje din viața ta – și apoi la rezolvare\, vindecare și dezvoltare personală – vezi și https://educatieinteleapta.com/beneficii-ale-lucrului-cu-metoda-constelatiilor-familiale-sistemice/. \nAcest workshop este bună ocazie pentru tine să simti profunzimea cu care lucrez eu cu această metodă; și apoi poate vei dori să lucrezi mai susținut cu tine\, la rezolvarea problemelor tale arzătoare sau la vindecare. Mai ales că din septembrie 2026 voi începe un nou program de Training/Formare de facilitatori/terapeuţi cu această puternică și versatilă metodă. \nDeoarece mulți dintre noi avem traume încă nerezolvate – ale noastre sau preluate de la cei dinaintea noastră – și în acest workshop\, deși în grup\, vom lucra într-un mediu de deplină siguranță. \nMulte din problemele noastre nu pot fi rezolvate la nivelul la care ele apar\, aşa că prin metoda Constelațiilor noi urcăm la nivelul în care ele își pot găsi\, în sfârșit\, rezolvarea. \nVindecarea\, deblocarea\, evoluția\, autocunoasterea\, eliberarea\, transformarea şi rezolvarea au nevoie de structură\, relații sănătoase\, spațiu\, siguranță\, informație şi timp – așa că workshopurile facilitate de mine oferă structura și relaționarea necesară\, spațiul securizant potrivit\, dezvăluie adevărurile relevante ascunse şi asigură răgazul necesar mișcărilor sufleteşti vindecătoare. Vom lucra mai ales experiențial\, emoțional și somatic. \nFiecare constelație ne va ajuta mult pe toți cei prezenți – deseori chiar terapia altora\, la care participăm cu inima deschisă\, poate fi mai profundă și vindecătoare decât propria terapie. \nAm creeat și un Ghid pentru a te ajuta să beneficiezi pe deplin de participarea ta la workshopurile mele de Constelații Familiale Sistemice\, pentru a lucra cât mai eficient cu tine – vezi aici: https://educatieinteleapta.com/. Ghidul prezintă pe scurt 15 pași pentru efecte benefice și durabile: 3 pași de pregătire înainte de workshop\, 7 pași în timpul atelierului\, precum si 5 pași esențiali pentru susținerea continuării procesului de după. \nPentru înscrieri și alte detalii: tel. 0724083243\, www.EducatieInteleapta.com \nCând: vineri 20 martie (15:30-21:30) și sâmbătă 21 martie (9:00-21:00) – cu un total de 17 ore de lucru efectiv\, o pauză de prânz de 1 oră sâmbătă\, precum și câteva pauze scurte cu ronțăieli sărate și dulci.\nV-aș ruga să vă aduceți apă\, ceai\, cafea și/sau ce doriți să beți pe parcursul zilei. Ne vom simți ca acasă și în siguranță\, vom sta mult pe scaune și uneori în picioare\, deci îmbrăcați-vă comod. Puteți să vă aduceți perini/pături dacă nu doriți/puteți să ședeți pe scaun. \nVârsta minimă participant: 18 ani\nNumăr maxim de participanți: 10 persoane\nLocația: Oradea \nCost (17 ore de lucru): 800 lei\nCei care au mari probleme financiare dar și-ar dori mult să participe\, mă pot contacta telefonic ca să discutăm cum să găsim o posibilitate ca totuși să poată participa. \nMi-am început munca de dezvoltare personală cu Constelațiile Familiale Sistemice în 2007\, iar în 2010 am intrat în prima formare. Din 2017 ofer servicii de terapie – de grup și individuală – cu această metodă.\nDin martie 2025 am început și un program de Formare/Training de terapeuți/facilitatori cu metoda\, urmând ca în septembrie 2026 să încep trainingul unui nou grup.\nMai multe detalii despre mine\, pregatirea și experiența mea\, precum și despre Constelațiile Familiale le poți găsi pe website-ul meu la https://educatieinteleapta.com/. \nTe aștept cu drag\,\nTeodor. \nPentru înscrieri și alte detalii: tel. 0724083243\, www.EducatieInteleapta.com \n–––– \nGrupul privat de Constelatii Familiale Sistemice cu Teodor pe fb este aici: https://www.facebook.com/groups/220258292083670 \nDe peste 40 ani psihoterapeutul Bert Hellinger a dezvoltat metoda terapeutică a Constelațiilor Familiale (în traducere corectă din germană ”Poziționări în spațiu ale membrilor familiei”) pornind de la experiența sa îndelungată în lucrul cu oamenii\, și apoi aducând împreună tot ceea ce a găsit el mai eficient în diversele abordări psihoterapeutice (psihoterapia sistemică\, gestalt\, integrativă\, analiza tranzacțională\, psihanaliza\, psihodrama\, psihoterapiile familiale și transgeneraționale\, NLP\, primal scream\, etc.) parcurse în cei 15 ani de formare a sa ca psihoterapeut – aceasta fiind după cei peste 20 de ani de bogată experiență a sa ca preot catolic. Apoi el a îmbunătățit continuu această metodă\, conform cu rezultatele obținute în practica sa de multe decenii de mare succes cu ea. \nÎn decursul anilor\, terapia constelațiilor\, mai ales datorită rezultatelor deosebite\, a devenit recunoscută și răspândită în toată lumea. În Brazilia\, Constelațiile familiale sistemice sunt deja folosite oficial în sistemul judiciar și de sănătate\, iar în Germania\, Austria și Africa de Sud metoda Constelațiilor este utilizată nu doar în terapie\, ci și în procese oficiale de mediere și soluționare a conflictelor. \nDenumirea de “constelații” are de-a face cu faptul că metoda presupune\, printre multe altele\, și o așezare în spațiu (în sala de workshop) a unor participanți din grup\, fiecare reprezentând ceva important pentru intenția clientului (de ex. o persoană precum mama\, tata\, copilul\, fratele clientului\, sau altele\, precum simptomul\, boala\, sufletul\, partea traumatizată a clientului\, sau un secret\, comunismul\, o nedreptate\, etc.). În funcție de poziționarea inițială a reprezentanților de către client\, precum și de mișcarea lor liberă ulterioară\, se conturează imagini cu sens pentru client și cei prezenți\, aceste imagini/poziționări în spațiu fiind numite și “constelații”. \nConstelațiile Familiale Sistemice reprezintă o metodă puternică de investigație și transformare. Ea dezvăluie dinamica inconștientă/ascunsă a sistemelor din care facem parte. Putând observa disfuncțiile dintr-un sistem\, prin intermediul metodei putem apoi readuce ordinea\, echilibrul și liniștea în acel sistem. \nEvenimentele grele neprocesate sau neechilibrate din trecutul nostru sau al sistemului nostru familial sunt adesea cauza și explicația comportamentelor noastre și a copiilor noștri. Atât traumele noastre\, cât și poverile și traumele pe care inconștient le-am preluat de la alții\, mai ales de la cei din familia noastră\, se manifestă în viața noastră mai ales ca tipare nocive\, într-un fel nesănătos de-a funcționa. Aceste tipare ne împiedică să ne trăim fericiți și împliniți viața – în schimb ne determină inconștient să manifestăm probleme precum anxietăți\, depresii\, dependențe\, emoții puternice inexplicabile care ne vin ca din senin\, suferințe sufletești\, simptome fizice\, boli\, atracția spre persoane și situații care ne aduc suferință\, insuccese\, blocaje\, etc. \nExemple de evenimente grele din trecutul sistemului nostru de familie (de pildă în care au fost implicați frați\, surori\, părinți\, unchi\, bunici\, străbunici\, sau parteneri anteriori) care ne pot afecta profund puteți găsi aici: https://educatieinteleapta.com/evenimente-grele-care-ne-afecteaza/. \nSuccinte informații despre traume și transmiterea lor intergenerațională puteți găsi și aici: https://educatieinteleapta.com/traume-si-transmiterea-lor-intergenerationala/ \nTestimoniale ale celor care au participat deja la Constelații cu mine puteți găsi aici: https://educatieinteleapta.com/testimoniale/
URL:https://educatieinteleapta.com/eveniment/constelatii-familiale-sistemice-20-21-martie-2026-oradea/
LOCATION:ORADEA\, str. Episcop Mihai Pavel nr.7\, Oradea
ATTACH;FMTTYPE=image/jpeg:https://educatieinteleapta.com/wp-content/uploads/2026/03/shutterstock_188053877-scaled.jpg
ORGANIZER;CN="Wise Education":MAILTO:teodor.ciomocos@gmail.com
END:VEVENT
BEGIN:VEVENT
DTSTART;TZID=Europe/Bucharest:20250517T093000
DTEND;TZID=Europe/Bucharest:20250517T213000
DTSTAMP:20260422T141227
CREATED:20250501T183735Z
LAST-MODIFIED:20250518T184737Z
UID:10000022-1747474200-1747517400@educatieinteleapta.com
SUMMARY:Workshop-maraton de Constelații Familiale Sistemice
DESCRIPTION:Te invit cu drag la o nouă oportunitate de-ați rezolva o problemă arzătoare\, de-a te debloca sau de-ați (re)porni procesele interioare de vindecare. \nMetoda Constelațiilor Familiale Sistemice este eficientă și versatilă; are are aplicabilitate universală\, cu ea noi fiind capabili să lucrăm eficient la absolut orice probleme de-ale noastre și cu orice sisteme\, nu doar cele familiale – vezi și https://educatieinteleapta.com/beneficii-ale-lucrului-cu…/ . \nDeoarece multe din problemele noastre nu pot fi rezolvate la nivelul la care ele apar\, prin metoda Constelațiilor noi urcăm la nivelul în care ele își pot găsi\, în sfârșit\, rezolvarea. \nCe este caracteristic felului în care lucrez eu cu această metodă este blândețea\, respectul și profunzimea. De-asemenea\, pentru că mulți dintre noi avem traume încă nerezolvate – ale noastre sau preluate de la cei dinaintea noastră – în acest workshop\, deși în grup\, vom lucra într-un mediu de deplină siguranță. \nDeoarece corpul nostru fizic este cel mai aproape de adevăr și ne comunică continuu prin poziție\, senzații\, emoții și sentimente\, vom lucra mai ales experiențial\, la nivel sufletesc\, emoțional și somatic. \nFiecare constelație ne va ajuta mult pe toți cei prezenți – deseori chiar terapia altora\, la care participăm cu inima deschisă\, poate fi mai profundă și vindecătoare decât propria terapie. \nVindecarea\, deblocarea şi rezolvarea au nevoie de structură\, relații sănătoase\, spațiu\, informație şi timp – așa că workshopurile facilitate de mine oferă structura și relaționarea necesară\, spațiul securizant potrivit\, dezvăluie adevărurile care lipsesc şi asigură răgazul necesar mișcărilor sufleteşti vindecătoare. \nPentru înscrieri și alte detalii: tel. 0724083243\, www.EducatieInteleapta.com \nCând: sâmbătă 17 mai (9:30-21:30).\nVom avea o mică pauză de prânz\, în care unii mâncăm ce ne aducem de acasă (inclusiv cei care au regimuri mai speciale) iar alții ne comandăm prânzul. Vom mai avea și câteva pauze scurte cu ronțăieli sărate și dulci.\nV-aș ruga să vă aduceți apă\, ceai\, cafea și/sau ce doriți să beți pe parcursul zilei. Ne vom simți ca acasă și în siguranță\, vom sta mult pe scaune și uneori în picioare\, deci îmbrăcați-vă comod. Puteți să vă aduceți perini/pături dacă nu doriți să ședeți pe scaun.\nVârsta minimă participant: 18 ani \nLocația: ORADEA \nCost integral fără reduceri: 600 lei\nOfer una din următoarele reduceri:\n• reducere de 40% pentru al doilea membru foarte apropiat din sistemul familial (partener de cuplu\, fiu/fiică\, frate/soră\, părinte\, unchi/mătușă\, nepot/nepoată de unchi/mătușă)\, pentru pensionari sau pentru studenți până la 29 ani;\n• reducere de 20% pentru o verișoară primară sau un văr primar;\n• reducere de 15% pentru participanții care își continuă lucrul după workshopurile sau grupurile mele de lucru cu metoda Constelațiilor.\nCei care au mari probleme financiare dar și-ar dori mult să participe\, mă pot contacta telefonic ca să discutăm cum să găsim o posibilitate ca totuși să poată participa. \nTe invit să participi la workshop și dacă ești într-o etapă de viață în care dorești să lucrezi susținut și temeinic cu tine\, pentru a merge chiar la rădăcina blocajelor și problemelor din viața ta – și apoi la rezolvare\, vindecare și dezvoltare personală. Dacă cunoști deja metoda Constelațiilor\, sau dacă vei ajunge să-i descoperi valoarea\, poate vei afla acum că ea te sprijină să evoluezi nu doar personal\, dar și profesional. \nDin martie 2025 am început o Formare de facilitatori/terapeuți cu metoda Constelațiilor Familiale la Timișoara – https://educatieinteleapta.com/formare-in-constelatii…/ – așa că\, dacă încă nu știi cum lucrez\, acest workshop poate fi o oportunitate bună pentru tine ca să simți cum rezonezi cu modul meu de lucru. \nAm început munca de dezvoltare personală cu această metodă in 2007\, iar din 2017 facilitez Constelații Familiale. Mai multe detalii despre mine\, munca mea\, precum și despre Constelațiile Familiale le poți găsi pe website-ul meu la www.EducatieInteleapta.com. \nTe aștept cu drag\,\nTeodor.\nPentru înscrieri și alte detalii: tel. 0724083243\, www.EducatieInteleapta.com\n–––––-\nGrupul privat de Constelatii Familiale Sistemice cu Teodor pe fb este aici: https://www.facebook.com/groups/220258292083670 \nNoul grup cu orice fel de întâlniri și activități de dezvoltare personală pentru ORADEA:\nhttps://www.facebook.com/groups/dezvoltarepersonalaoradea \nPsihoterapeutul Bert Hellinger a dezvoltat metoda terapeutică a Constelațiilor Familiale (în traducere corectă din germană ”Poziționări în spațiu ale membrilor familiei”) pornind de la experiența sa îndelungată în lucrul cu oamenii\, și apoi aducând împreună tot ceea ce a găsit el mai eficient în diversele abordări psihoterapeutice (psihoterapia sistemică\, gestalt\, integrativă\, analiza tranzacțională\, psihanaliza\, psihodrama\, psihoterapiile familiale și transgeneraționale\, NLP\, primal scream\, etc.) parcurse în cei 15 ani de formare a sa ca psihoterapeut – aceasta fiind după cei peste 20 de ani de bogată experiență a sa ca preot catolic. Apoi el a îmbunătățit continuu această metodă\, conform cu rezultatele obținute în practica sa de multe decenii de mare succes cu ea.\nÎn decursul anilor\, terapia constelațiilor\, mai ales datorită realizărilor deosebite\, a devenit recunoscută și răspândită în toată lumea. În Brazilia\, Constelațiile familiale sistemice sunt deja folosite oficial în sistemul judiciar și de sănătate\, iar în Germania\, Austria și Africa de Sud metoda Constelațiilor este utilizată nu doar în terapie\, ci și în procese oficiale de mediere și soluționare a conflictelor.\nDenumirea de “constelații” are de-a face cu faptul că metoda presupune\, printre multe altele\, și o așezare în spațiu (în sala de workshop) a unor participanți din grup\, fiecare reprezentând ceva important pentru intenția clientului (de ex. o persoană precum mama\, tata\, copilul\, fratele clientului\, sau altele\, precum simptomul\, boala\, sufletul\, partea traumatizată a clientului\, sau un secret\, comunismul\, o nedreptate\, etc.). În funcție de poziționarea inițială a reprezentanților de către client\, precum și de mișcarea lor liberă ulterioară\, se conturează imagini cu sens pentru client și cei prezenți\, aceste imagini/poziționări în spațiu fiind numite și “constelații”. \nExemple de evenimente grele din trecutul sistemului nostru de familie (de pildă în care au fost implicați frați\, surori\, părinți\, unchi\, bunici\, străbunici\, sau parteneri anteriori) care ne pot afecta profund puteți găsi aici: https://educatieinteleapta.com/evenimente-grele-care-ne…/ \nSuccinte informații despre traume și transmiterea lor intergenerațională puteți găsi și aici: https://educatieinteleapta.com/traume-si-transmiterea…/ \nTestimoniale ale celor care au participat deja la Constelații cu mine puteți găsi aici: https://educatieinteleapta.com/testimoniale/
URL:https://educatieinteleapta.com/eveniment/workshop-maraton-de-constelatii-familiale-sistemice/
LOCATION:ORADEA\, str. Episcop Mihai Pavel nr.7\, Oradea
ATTACH;FMTTYPE=image/jpeg:https://educatieinteleapta.com/wp-content/uploads/2025/05/CFS-workshop-intensiv-mai.jpg
ORGANIZER;CN="Wise Education":MAILTO:teodor.ciomocos@gmail.com
END:VEVENT
END:VCALENDAR