BEGIN:VCALENDAR
VERSION:2.0
PRODID:-//Educație înțeleaptă - ECPv6.15.18//NONSGML v1.0//EN
CALSCALE:GREGORIAN
METHOD:PUBLISH
X-ORIGINAL-URL:https://educatieinteleapta.com
X-WR-CALDESC:Evenimente pentru Educație înțeleaptă
REFRESH-INTERVAL;VALUE=DURATION:PT1H
X-Robots-Tag:noindex
X-PUBLISHED-TTL:PT1H
BEGIN:VTIMEZONE
TZID:Europe/Bucharest
BEGIN:DAYLIGHT
TZOFFSETFROM:+0200
TZOFFSETTO:+0300
TZNAME:EEST
DTSTART:20230326T010000
END:DAYLIGHT
BEGIN:STANDARD
TZOFFSETFROM:+0300
TZOFFSETTO:+0200
TZNAME:EET
DTSTART:20231029T010000
END:STANDARD
BEGIN:DAYLIGHT
TZOFFSETFROM:+0200
TZOFFSETTO:+0300
TZNAME:EEST
DTSTART:20240331T010000
END:DAYLIGHT
BEGIN:STANDARD
TZOFFSETFROM:+0300
TZOFFSETTO:+0200
TZNAME:EET
DTSTART:20241027T010000
END:STANDARD
BEGIN:DAYLIGHT
TZOFFSETFROM:+0200
TZOFFSETTO:+0300
TZNAME:EEST
DTSTART:20250330T010000
END:DAYLIGHT
BEGIN:STANDARD
TZOFFSETFROM:+0300
TZOFFSETTO:+0200
TZNAME:EET
DTSTART:20251026T010000
END:STANDARD
BEGIN:DAYLIGHT
TZOFFSETFROM:+0200
TZOFFSETTO:+0300
TZNAME:EEST
DTSTART:20260329T010000
END:DAYLIGHT
BEGIN:STANDARD
TZOFFSETFROM:+0300
TZOFFSETTO:+0200
TZNAME:EET
DTSTART:20261025T010000
END:STANDARD
END:VTIMEZONE
BEGIN:VEVENT
DTSTART;TZID=Europe/Bucharest:20250215T100000
DTEND;TZID=Europe/Bucharest:20250216T183000
DTSTAMP:20260422T203410
CREATED:20250124T194922Z
LAST-MODIFIED:20250508T081853Z
UID:10000019-1739613600-1739730600@educatieinteleapta.com
SUMMARY:Modul Intro Constelații Familiale - workshop special
DESCRIPTION:Te invit cu drag la un Workshop special de Constelații Familiale Sistemice\, unde vei putea lucra serios la tine și\, în același timp\, să înțelegi cum funcționează în profunzime această metodă.\nVom aborda teme personale într-un mod obișnuit\, dar cu mai multă conștiență și transparență pentru a aduce la lumină cum lucrează propriu-zis metoda. \nDe ce este mai special acest workshop?\n– Te vei conecta la ceea ce este esențial și vindecător din diverse abordări psihoterapeutice\, integrate într-o metodă performantă și profundă.\n– Vei explora o metodă care poate aborda orice tip de provocare pe care o ai în viața ta.\n– Vei înțelege mai clar de ce Constelațiile Familiale sunt atât de eficiente și cum funcționează\, simțind puterea lor pe propria experiență.\n– Îți vei explora probleme\, blocaje\, simptome sau alte teme personale încurajat(ă) de un cadru în care lucrezi în același timp și la vindecarea familiei tale.\n– Vei lucra într-un spațiu sigur\, cu blândețe și respect – inclusiv pentru a adresa traume\, mari pierderi sau alte evenimente grele din viața ta sau din sistemul tău familial.\n– Dacă nu mă cunoști\, vei simți cum este să participi la un workshop ghidat de mine. \nDacă apoi vei dori să aprofundezi și mai mult\, în 14 martie demarez Programul de Formare în Constelații Familiale\, unde vei avea ocazia să lucrezi mai intens la propria dezvoltare și să înțelegi în detaliu de ce această metodă poate produce schimbări atât de spectaculoase. La sfârșitul stagiului vei fi capabil(ă) să sprijini transformarea în profunzime și a altor oameni și poți deveni facilitator cu această metodă. (www.EducatieInteleapta.com/formare-in-constelatii-familiale) \nCum lucrăm?\n– Vom aborda procesul experiențial și somatic\, la nivel sufletesc și emoțional\, ghidați de înțelepciunea corpului și de legitățile sistemice. Indiferent dacă ai lucrat înainte cu această metodă sau e prima ta experiență\, vei fi susținut(ă) să pășești pe drumul transformării.\n– Deoarece multe din problemele noastre nu pot fi rezolvate la nivelul la care ele apar\, prin metoda Constelațiilor noi urcăm la nivelul în care ele își pot găsi\, în sfârșit\, rezolvarea.\n– Vindecarea\, deblocarea şi rezolvarea au nevoie de structură\, relații sănătoase\, spațiu\, informație şi timp – așa că workshopurile facilitate de mine oferă structura și relaționarea necesară\, spațiul securizant potrivit\, dezvăluie adevărurile care lipsesc şi asigură răgazul necesar mișcărilor sufleteşti vindecătoare. \nTe aștept cu mult drag să îți dezvălui valoarea acestui mod de abordare – care nu este doar despre un atelier sau o formare\, ci despre un mod înțelept de a-ți înțelege și trăi viața.\nEste timpul să faci pasul spre a face ceva mult mai frumos cu viața ta\, spre a te simți mai fericit(ă) și mai împlinit(ă). Participarea nu este doar despre tine – este despre liniștea și echilibrul pe care îl aduci celor dragi precum și generațiilor următoare. \nPentru înscrieri și alte detalii: tel. 0724083243\, www.EducatieInteleapta.com \nCând: sâmbătă\, 15 februarie (10:00-20:00) și duminică\, 16 februarie 2025 (10:00-18:30) – cu un total de 16.5 ore de lucru. Zilnic vom avea pauze scurte\, precum și o pauza de prânz de 60 minute. Ne vom simți ca acasă și în siguranță\, vom sta mult pe scaune și uneori în picioare\, deci îmbrăcați-vă comod. Puteți să vă aduceți perini/pături dacă nu doriți să ședeți pe scaun. V-aș ruga să vă aduceți apă\, ceai\, cafea și/sau ce doriți să beți pe parcursul zilei. \nVârsta minimă participant: 18 ani \nLocația: HOTEL TIMIȘOARA – în centru\, lângă Operă \nCost fără reduceri:\n• Pentru ambele zile (16.5 ore de lucru): 800 lei\n• Doar pentru sâmbătă (9 ore de lucru): 680 lei. \nOfer una din următoarele reduceri:\n• reducere de 40% pentru al doilea membru foarte apropiat din sistemul familial (partener de cuplu\, fiu/fiică\, frate/soră\, părinte\, unchi/mătușă\, nepot/nepoată de unchi/mătușă)\, pentru pensionari sau pentru studenți până la 26 ani;\n• reducere de 20% pentru o verișoară primară sau un văr primar;\n• reducere de 15% pentru participanții care își continuă lucrul după workshopurile sau grupurile mele de lucru cu metoda Constelațiilor.\nCei care au mari probleme financiare dar și-ar dori mult să participe\, mă pot contacta telefonic ca să discutăm cum să găsim o posibilitate ca totuși să poată participa. \nMi-am început munca personală cu metoda Constelațiilor Familiale Sistemice în 2007\, iar din 2010 mi-am început și formările în această metodă\, cu mai multi experți psihoterapeuți și medici din diverse țări. Din 2017 ofer terapii sistemice cu metoda Constelațiilor Familiale\, de grup și individuale\, și sunt în continuă specializare avansată. Din 14 martie 2024 demarez un program de training/formare pentru dezvoltare personală și pregătire de viitori facilitatori de Constelații Familiale. \nDin experiența mea personală de peste 17 ani cu Constelațiile Familiale Sistemice pot concluziona că acestă metodă include tot ce este mai eficient din abordările Psihologiei; în plus\, ea reprezintă și o educație înțeleaptă: o modalitate sănătoasă\, conștientă\, de a ne trăi viața\, spre a ne-o face mai fericită și împlinită. \nTe aștept cu drag!\nTeodor Ciomocoș\, tel. 0724083243.\nwww.EducatieInteleapta.com \n  \nGrupul privat de Constelatii Familiale Sistemice cu Teodor pe fb este aici: https://www.facebook.com/groups/220258292083670 \nCîteva informații despre metoda Constelațiilor Familiale Sistemice poți găsi aici: https://EducatieInteleapta.com/categorie/constelatii-familiale-sistemice/ \nExemple de evenimente grele din trecutul sistemului nostru de familie (de pildă în care au fost implicați frați\, surori\, părinți\, unchi\, bunici\, străbunici\, sau parteneri anteriori) care ne pot afecta profund poți găsi aici: https://educatieinteleapta.com/evenimente-grele-care-ne…/. \nSuccinte informații despre traume și transmiterea lor intergenerațională poți găsi și aici: https://educatieinteleapta.com/traume-si-transmiterea…/ \nTestimoniale ale celor care au participat deja la Constelații cu mine poți găsi aici: https://EducatieInteleapta.com/testimoniale/
URL:https://educatieinteleapta.com/eveniment/modul-intro-constelatii-familiale-workshop-special/
LOCATION:Hotel Timișoara\, Timișoara\, Strada Mărășești 1-3\, Timisoara\, Timis\, 300593\, Romania
ATTACH;FMTTYPE=image/png:https://educatieinteleapta.com/wp-content/uploads/2025/01/Formare-2.png
ORGANIZER;CN="Wise Education":MAILTO:teodor.ciomocos@gmail.com
END:VEVENT
BEGIN:VEVENT
DTSTART;TZID=Europe/Bucharest:20241123T093000
DTEND;TZID=Europe/Bucharest:20241124T193000
DTSTAMP:20260422T203410
CREATED:20241024T062721Z
LAST-MODIFIED:20241122T180032Z
UID:10000009-1732354200-1732476600@educatieinteleapta.com
SUMMARY:Workshop Intensiv de Constelații Familiale Sistemice
DESCRIPTION:Metoda Constelațiilor Familiale Sistemice are aplicabilitate universală\, cu ea noi fiind capabili să lucrăm eficient la absolut orice probleme de-ale noastre și cu orice sisteme\, nu doar cele familiale.\n.\nLa nivelurile de bază o Constelație poate produce rezolvarea unor probleme arzătoare din viața de zi cu zi\, importante conștientizări\, dispariție de simptome\, vindecare de boli și creșterea bucuriei de viață.\nLa nivelurile următoare ne ajută la maturizare\, ascuțirea inteligenței emoționale\, autocunoaștere\, identificarea esențialului\, împlinire\, înțelepciune.\nȘi la nivelurile cele mai elevate o Constelație ne poate ajuta în evoluția noastră spirituală – de exemplu să putem și noi contribui într-un mod benefic sistemelor din care facem parte. Astfel\, prin metoda Constelațiilor noi putem\, de pildă\, contribui sistemelor prin a sprijini echilibrarea sau procesarea sănătoasă a celor rămase neechilibrate din trecutul acestora: nedreptăți\, cele excluse (inclusiv secrete)\, neterminate\, neprocesate\, neîmplinite\, nerezolvate.\n.\nPe de altă parte\, deoarece multe din problemele noastre nu pot fi rezolvate la nivelul la care ele apar\, prin metoda Constelațiilor noi urcăm la nivelul în care ele își pot găsi\, în sfârșit\, rezolvarea.\n.\nVindecarea\, deblocarea şi rezolvarea au nevoie de structură\, relații sănătoase\, spațiu\, informație şi timp – așa că workshopurile facilitate de mine oferă structura și relaționarea necesară\, spațiul securizant potrivit\, dezvăluie adevărurile care lipsesc şi asigură răgazul necesar mișcărilor sufleteşti vindecătoare.  Vom lucra mai ales experiențial\, la nivel emoțional și somatic.\n.\nFiecare constelație ne va ajuta mult pe toți cei prezenți – deseori chiar terapia altora\, la care participăm cu inima deschisă\, poate fi mai profundă și vindecătoare decât propria terapie.\n.\nMi-am început munca personală cu metoda Constelațiilor Familiale Sistemice în 2007\, iar din 2010 mi-am început și formările în această metodă\, cu mai multi experți psihoterapeuți și medici din diverse țări. Din 2017 ofer terapii sistemice cu metoda Constelațiilor Familiale\, de grup și individuale\, și sunt în continuă specializare avansată. Din februarie 2024 voi începe un program de training/formare pentru viitori facilitatori de Constelații.\n.\nDin experiența mea personală de 17 ani cu Constelațiile Familiale Sistemice pot concluziona că acestă metodă conține tot ce este mai eficient din abordările Psihologiei\, dar că ea reprezintă și o educație înțeleaptă: o modalitate sănătoasă\, conștientă\, de a ne trăi viața\, spre a ne-o face mai fericită și împlinită. Sunt recunoscător că azi există o metodă atât de profundă\, eficientă și puternică\, care să ajute atât de mult în autocunoaștere\, maturizare\, creștere personală\, vindecare\, deblocare\, rezolvare de probleme din viața cotidiană\, respect față de viață\, familie și semeni.\n.\n\n\nPentru înscrieri și alte detalii: tel. 0724083243\, www.educatieinteleapta.com\n.\nCând: sâmbătă\, 23 noiembrie (9:30-21:00) și duminică\, 24 noiembrie 2024 (10:00-19:30) – cu un total de 19 ore de lucru. Zilnic vom avea pauze scurte\, precum și o pauza de prânz de 60 minute. Ne vom simți ca acasă și în siguranță\, vom sta mult pe scaune și uneori în picioare\, deci îmbrăcați-vă comod. Puteți să vă aduceți perini/pături dacă nu doriți să ședeți pe scaun.\n.\nVârsta minimă participant: 18 ani\nLocația: HOTEL TIMIȘOARA – în centru lângă Operă\n.\nCost integral:• Pentru ambele zile (19 ore de lucru): 850 lei• Doar pentru sâmbătă (10.5 ore de lucru): 650 lei.\n.\nS-au ocupat toate locurile pentru cei care își vor lucra și direct intenția personală.\nPentru cei care nu doresc să-ți lucreze direct intenția personală\, mai sunt locuri și costurile sunt:\n• Pentru ambele zile (19 ore de lucru): 650 lei\n• Doar pentru sâmbătă (10.5 ore de lucru): 450 lei\n• Doar pentru duminică (8.5 ore de lucru): 360 lei.\nVă amintesc că lucrul ”indirect” este deseori mai puternic decât cel direct.\n.\nÎn plus\, mai ofer și una din următoarele reduceri:• reducere de 40% pentru al doilea membru foarte apropiat din sistemul familial (partener de cuplu\, fiu/fiică\, frate/soră\, părinte\, unchi/mătușă\, nepot/nepoată de unchi/mătușă)\, pentru pensionari sau pentru studenți până la 26 ani;• reducere de 15% pentru participanții care își continuă lucrul după workshopurile sau grupurile mele de lucru cu metoda Constelațiilor.Cei care au mari probleme financiare dar și-ar dori mult să participe\, mă pot contacta telefonic ca să discutăm cum să găsim o posibilitate ca totuși să poată participa.\n.\nPentru înscrieri și alte detalii: tel. 0724083243\, www.educatieinteleapta.com\n.\nTe aștept cu drag!Teodor Ciomocoș\, tel. 0724083243.www.EducatieInteleapta.com\n.\n–––––––––––––––––––-\n.\nInformații utile:Variante de parcare pt. Hotel Timișoara:(1) Parcare roșie sau galbenă pe străzile din apropiere – e gratuită sâmbăta și duminica.(2) Parcarea verde/zona 0 de pe străzi trebuie plătită sâmbăta 8:00-17:00 – prin aplicația TPARK sau SMS.(3) Parcarea de pe str. Paris 2A – 7:00-17:00 5lei/oră\, 17:00-7:00 3lei/oră;(4) Parcarea de vis-a-vis (str. Sf. Ioan) – 7lei/oră.(Parcarea subterană a hotelului (sub Convention Centre de lângă hotel) se plătește la recepția hotelului dar este DOAR pt. cei cazați la hotel).\n.–––––––––––––––––––-\n\n.\nGrupul privat de Constelatii Familiale Sistemice cu Teodor pe fb: https://www.facebook.com/groups/220258292083670\n.\nPentru cei care nu mă cunoașteți (și nu numai) vă invit pe website-ul meu la www.educatieinteleapta.com unde veți și găsi mai multe informații folositoare.\n.\nPsihoterapeutul Bert Hellinger a dezvoltat metoda terapeutică a Constelațiilor Familiale (în traducere corectă din germană ”Poziționări în spațiu ale membrilor familiei”) pornind de la experiența sa îndelungată în lucrul cu oamenii\, și apoi aducând împreună tot ceea ce a găsit el mai eficient în diversele abordări psihoterapeutice (psihoterapia sistemică\, gestalt\, integrativă\, analiza tranzacțională\, psihanaliza\, psihodrama\, psihoterapiile familiale (inclusiv transgeneraționale)\, NLP\, primal scream\, etc.) parcurse în cei 15 ani de formare a sa ca psihoterapeut – aceasta fiind după cei peste 20 de ani de bogată experiență a sa ca preot catolic. Apoi el a îmbunătățit continuu această metodă\, conform cu rezultatele obținute în practica sa de multe decenii de mare succes cu ea.În decursul anilor\, terapia constelațiilor\, mai ales datorită realizărilor deosebite\, a devenit recunoscută și răspândită în toată lumea. În Brazilia\, Constelațiile familiale sistemice sunt deja folosite oficial în sistemul judiciar și de sănătate\, iar în Germania\, Austria și Africa de Sud metoda Constelațiilor este utilizată nu doar în terapie\, ci și în procese oficiale de mediere și soluționare a conflictelor.\n.\nDenumirea de “constelații” are de-a face cu faptul că metoda presupune\, printre multe altele\, și o așezare în spațiu (în sala de workshop) a unor participanți din grup\, fiecare reprezentând ceva important pentru intenția clientului (de ex. o persoană precum mama\, tata\, copilul\, fratele clientului\, sau altele\, precum simptomul\, boala\, sufletul\, partea traumatizată a clientului\, sau un secret\, comunismul\, o nedreptate\, etc.). În funcție de poziționarea inițială a reprezentanților de către client\, precum și de mișcarea lor liberă ulterioară\, se conturează imagini cu sens pentru client și cei prezenți\, aceste imagini/poziționări în spațiu fiind numite și “constelații”.\n.\nDetalii despre mine și munca mea puteți găsi aici.\n.\n\nMajoritatea suferințelor\, blocajelor\, neputințelor și problemelor tale au la bază următoarele:– traume nerezolvate (ale tale sau preluate din familia ta de origine);– mari pierderi de-ale tale pe care nu ai știut să le procesezi și mari pierderi neprocesate din trecut ale părinților sau strămoșilor tăi;– alte evenimente grele ale celor dinaintea ta din sistemul tău familial (precum morți premature\, excluderi\, nedreptăți).– încălcarea unor legități sistemice de către tine sau alții din sistemul tău familial.De remarcat este că de regulă suferi doar din necunoaștere\, deoarece cauzele suferinței tale îți sunt\, în realitate\, inconștiente. Deci potențialul de a ieși din suferință prin scoaterea adevărului la lumină și apoi lucrul cu o metodă potrivită\, precum metoda Constelațiilor\, este foarte mare.Pentru cei dintre noi care avem copii\, un motiv în plus să ne rezolvăm problemele emoționale/sufletești este următorul: copiii\, din păcate\, preiau inconștient toate cele cărora părinții nu le pot face față într-un mod sănătos.\n.\nExemple de evenimente grele din trecutul sistemului nostru de familie (de pildă în care au fost implicați frați\, surori\, părinți\, unchi\, bunici\, străbunici\, sau parteneri anteriori) care ne pot afecta profund puteți găsi aici: https://educatieinteleapta.com/evenimente-grele-care-ne…/.\n.\nSuccinte informații despre traume și transmiterea lor intergenerațională puteți găsi și aici: https://educatieinteleapta.com/traume-si-transmiterea…/
URL:https://educatieinteleapta.com/eveniment/workshop-intensiv-de-constelatii-familiale-sistemice-2/
LOCATION:Hotel Timișoara\, Timișoara\, Strada Mărășești 1-3\, Timisoara\, Timis\, 300593\, Romania
ATTACH;FMTTYPE=image/png:https://educatieinteleapta.com/wp-content/uploads/2024/10/Event-Image-23-24-noi24.png
ORGANIZER;CN="Wise Education":MAILTO:teodor.ciomocos@gmail.com
END:VEVENT
BEGIN:VEVENT
DTSTART;TZID=Europe/Bucharest:20241012T100000
DTEND;TZID=Europe/Bucharest:20241013T193000
DTSTAMP:20260422T203410
CREATED:20240819T182524Z
LAST-MODIFIED:20241008T184924Z
UID:10000005-1728727200-1728847800@educatieinteleapta.com
SUMMARY:Constelații Familiale Sistemice - Workshop Maraton
DESCRIPTION:Tu știi dacă acum este\, sau încă nu\, momentul pentru tine să îți rezolvi o problemă arzătoare\, să te deblochezi sau să-ți (re)pornești procesele interioare de vindecare. \nFolosind complexa metodă a Constelațiilor Familiale Sistemice vom lucra împreună 18 ore – eficient dar cu blândețe. Fiecare terapie îi va ajuta mult pe toți cei prezenți – deseori chiar terapia altora\, la care participăm cu inima deschisă\, poate fi mai profundă și vindecătoare decât propria terapie. Vom lucra mai ales experiențial\, la nivel emoțional și somatic. \n\nMetoda Constelațiilor Familiale Sistemice are aplicabilitate universală\, cu ea noi fiind capabili să lucrăm eficient la absolut orice probleme de-ale noastre și cu orice sisteme\, nu doar cele familiale.\nIzolarea este una din marile iluzii moderne. În realitate sistemele conțin totul și ele influențează totul. Suferințele și aspectele neechilibrate ale fiecărui membru/individ devin ale sistemului\, și deci apoi toți cei din sistem sunt afectați\, mai mult sau mai puțin\, de ele. De aceea noi\, din păcate\, suferim adesea doar din necunoaștere – deoarece cauzele suferințelor noastre ne sunt\, deseori\, inconștiente. Deci cu ajutorul Constelațiilor potențialul de a ieși din suferință sau blocaje – inclusiv prin scoaterea adevărului la lumină – este foarte mare. Pentru cei dintre noi care avem copii\, un motiv în plus să ne rezolvăm problemele emoționale/sufletești este următorul: copiii\, din păcate\, preiau inconștient toate cele cărora părinții nu le pot face față într-un mod sănătos. \nÎn plus\, cu ajutorul acestei terapii putem lucra eficient și la celelalte cauze ale afecțiunilor fizice și psihice\, ale suferințelor\, neîmplinirilor\, fricilor\, necazurilor sau blocajelor noastre. Putem lucra\, de exemplu\, spre vindecarea traumelor noastre\, la procesarea sănătoasă a marilor noastre pierderi\, precum și la echilibrarea sau deblocarea altor aspecte din viața noastră prezentă.\nVindecarea\, deblocarea şi rezolvarea au nevoie de structură\, relații sănătoase\, spațiu\, informație şi timp – așa că workshopurile facilitate de mine oferă structura și relaționarea necesară\, spațiul securizant potrivit\, dezvăluie adevărurile care lipsesc şi asigură răgazul necesar mișcărilor sufleteşti vindecătoare. \nPentru înscrieri și alte detalii: tel. 0724083243. \nCând:\nsâmbătă\, 12 octombrie (10:00-21:00) și\nduminică\, 13 septembrie (10:30-19:30)\n– cu un total de 18 ore de lucru.\nZilnic vom avea pauze scurte\, precum și o pauza de prânz de 60 minute. Ne vom simți ca acasă și în siguranță\, vom sta mult pe scaune și uneori în picioare\, deci îmbrăcați-vă mai comod. Puteți să vă aduceți o pernă și/sau pătură dacă nu doriți să ședeți pe scaun.\nVârsta minimă participant: 18 ani \nLocația: HOTEL TIMIȘOARA \nCost:\n– Pentru ambele zile (18 ore de lucru): 850 lei\n– Doar pentru sâmbătă (10 ore de lucru): 650 lei. \nOfer una din următoarele reduceri:\n– reducere de 40% pentru al doilea membru foarte apropiat din sistemul familial (partener de cuplu\, fiu/fiică\, frate/soră\, părinte\, unchi/mătușă\, nepot/nepoată de unchi/mătușă)\, pentru pensionari sau pentru studenți până la 26 ani;\n– reducere de 10% pentru participanții care își continuă lucrul după workshopurile sau grupurile mele de lucru cu metoda Constelațiilor.\nCei care au mari probleme financiare dar și-ar dori mult să participe\, mă pot contacta telefonic ca să discutăm cum să găsim o posibilitate ca totuși să poată participa.\nMi-am început munca personală cu metoda Constelațiilor Familiale Sistemice în 2007\, iar din 2010 mi-am început și formările în această metodă\, cu mai multi experți psihoterapeuți și medici din diverse țări. Din 2017 ofer terapii sistemice cu metoda Constelațiilor Familiale\, de grup și individuale\, și sunt în continuă specializare avansată. \nDin experiența mea personală de 17 ani cu Constelațiile Familiale Sistemice pot concluziona că acestă metodă conține tot ce este mai eficient din abordările Psihologiei\, dar că ea reprezintă și o educație înțeleaptă: o modalitate sănătoasă\, conștientă\, de a ne trăi viața\, spre a ne-o face mai fericită și împlinită. Sunt recunoscător că azi există o terapie atât de profundă\, eficientă și puternică\, care să ajute atât de mult în autocunoaștere\, maturizare\, creștere personală\, vindecare\, deblocare\, rezolvare de probleme din viața cotidiană\, respect față de viață\, familie și semeni. \nTe aștept cu drag!\nTeodor Ciomocoș\, tel. 0724083243.
URL:https://educatieinteleapta.com/eveniment/alt-eveniment-viitor/
LOCATION:Hotel Timișoara\, Timișoara\, Strada Mărășești 1-3\, Timisoara\, Timis\, 300593\, Romania
ATTACH;FMTTYPE=image/png:https://educatieinteleapta.com/wp-content/uploads/2024/08/Workshop-12-13oct.-HotelTimisoara.png
ORGANIZER;CN="Wise Education":MAILTO:teodor.ciomocos@gmail.com
END:VEVENT
END:VCALENDAR