BEGIN:VCALENDAR
VERSION:2.0
PRODID:-//Educație înțeleaptă - ECPv6.15.18//NONSGML v1.0//EN
CALSCALE:GREGORIAN
METHOD:PUBLISH
X-ORIGINAL-URL:https://educatieinteleapta.com
X-WR-CALDESC:Evenimente pentru Educație înțeleaptă
REFRESH-INTERVAL;VALUE=DURATION:PT1H
X-Robots-Tag:noindex
X-PUBLISHED-TTL:PT1H
BEGIN:VTIMEZONE
TZID:Europe/Bucharest
BEGIN:DAYLIGHT
TZOFFSETFROM:+0200
TZOFFSETTO:+0300
TZNAME:EEST
DTSTART:20240331T010000
END:DAYLIGHT
BEGIN:STANDARD
TZOFFSETFROM:+0300
TZOFFSETTO:+0200
TZNAME:EET
DTSTART:20241027T010000
END:STANDARD
BEGIN:DAYLIGHT
TZOFFSETFROM:+0200
TZOFFSETTO:+0300
TZNAME:EEST
DTSTART:20250330T010000
END:DAYLIGHT
BEGIN:STANDARD
TZOFFSETFROM:+0300
TZOFFSETTO:+0200
TZNAME:EET
DTSTART:20251026T010000
END:STANDARD
BEGIN:DAYLIGHT
TZOFFSETFROM:+0200
TZOFFSETTO:+0300
TZNAME:EEST
DTSTART:20260329T010000
END:DAYLIGHT
BEGIN:STANDARD
TZOFFSETFROM:+0300
TZOFFSETTO:+0200
TZNAME:EET
DTSTART:20261025T010000
END:STANDARD
END:VTIMEZONE
BEGIN:VEVENT
DTSTART;TZID=Europe/Bucharest:20250125T103000
DTEND;TZID=Europe/Bucharest:20250125T210000
DTSTAMP:20260422T201810
CREATED:20250112T172606Z
LAST-MODIFIED:20250523T091731Z
UID:10000018-1737801000-1737838800@educatieinteleapta.com
SUMMARY:Workshop de Constelații Familiale Sistemice
DESCRIPTION:Metoda Constelațiilor Familiale Sistemice este eficientă și versatilă; are are aplicabilitate universală\, cu ea noi fiind capabili să lucrăm eficient la absolut orice probleme de-ale noastre și cu orice sisteme\, nu doar cele familiale – vezi și https://educatieinteleapta.com/beneficii-ale-lucrului-cu…/. \nDacă te simți pregătit(ă) să îți rezolvi o problemă arzătoare\, să te deblochezi sau să-ți (re)pornești procesele interioare de vindecare\, în 25 ianuarie ai o perfectă oportunitate pentru aceasta. \nDeoarece multe din problemele noastre nu pot fi rezolvate la nivelul la care ele apar\, prin metoda Constelațiilor noi urcăm la nivelul în care ele își pot găsi\, în sfârșit\, rezolvarea. \nCe este caracteristic felului în care lucrez eu cu această metodă este blândețea\, respectul și profunzimea. De-asemenea\, pentru că mulți dintre noi avem traume încă nerezolvate – ale noastre sau preluate de la cei dinaintea noastră – în acest workshop\, deși în grup\, vom lucra într-un mediu de deplină siguranță. \nDeoarece corpul nostru fizic este cel mai aproape de adevăr și ne comunică continuu prin poziție\, senzații\, emoții și sentimente\, vom lucra mai ales experiențial\, la nivel sufletesc\, emoțional și somatic. \nFiecare constelație ne va ajuta mult pe toți cei prezenți – deseori chiar terapia altora\, la care participăm cu inima deschisă\, poate fi mai profundă și vindecătoare decât propria terapie. Vom lucra mai ales experiențial\, la nivel emoțional și somatic. \nVindecarea\, deblocarea şi rezolvarea au nevoie de structură\, relații sănătoase\, spațiu\, informație şi timp – așa că workshopurile facilitate de mine oferă structura și relaționarea necesară\, spațiul securizant potrivit\, dezvăluie adevărurile care lipsesc şi asigură răgazul necesar mișcărilor sufleteşti vindecătoare.\nPentru înscrieri și alte detalii: tel. 0724083243\, www.EducatieInteleapta.com \nCând: sâmbătă 25 ianuarie (10:30-21:00) – cu o pauză de prânz de 1 oră\, precum și câteva pauze scurte cu ronțăieli.\nV-aș ruga să vă aduceți apă\, ceai\, cafea și/sau ce doriți să beți pe parcursul zilei. Ne vom simți ca acasă și în siguranță\, vom sta mult pe scaune și uneori în picioare\, deci îmbrăcați-vă comod. Puteți să vă aduceți perini/pături dacă nu doriți să ședeți pe scaun. \nVârsta minimă participant: 18 ani \nLocația: CARANSEBEŞ \nCost integral fără reduceri: 500 lei\nOfer reducere de 30% pentru al doilea membru foarte apropiat din sistemul familial (partener de cuplu\, fiu/fiică\, frate/soră\, părinte\, unchi/mătușă\, nepot/nepoată de unchi/mătușă)\, pentru pensionari sau pentru studenți până la 29 ani.\nCei care au mari probleme financiare dar și-ar dori mult să participe\, mă pot contacta telefonic ca să discutăm cum să găsim o posibilitate ca totuși să poată participa. \nTe invit să participi la workshop și dacă ești într-o etapă de viață în care dorești să lucrezi susținut și temeinic cu tine\, pentru a merge chiar la rădăcina blocajelor și problemelor din viața ta – și apoi la rezolvare\, vindecare și dezvoltare personală. Dacă cunoști deja metoda Constelațiilor\, sau dacă vei ajunge să-i descoperi valoarea\, poate vei afla acum că ea te poate ajuta să evoluezi nu doar personal\, dar și profesional.\nDin martie 2025 voi începe o Formare de facilitatori/terapeuți cu metoda Constelațiilor Familiale la Timișoara – https://educatieinteleapta.com/formare-in-constelatii…/ – așa că\, dacă încă nu știi cum lucrez\, acest workshop poate fi o oportunitate bună pentru tine ca să simți cum rezonezi cu modul meu de lucru. \nAm început munca de dezvoltare personală cu această metodă in 2007\, iar din 2017 facilitez Constelații Familiale. Mai multe detalii despre mine\, munca mea\, precum și despre Constelațiile Familiale le poți găsi pe website-ul meu la www.EducatieInteleapta.com. \nTe aștept cu drag\,\nTeodor.\nPentru înscrieri și alte detalii: tel. 0724083243\, www.EducatieInteleapta.com \n–––––––––––––––––––––––– \nGrupul privat de Constelatii Familiale Sistemice cu Teodor pe fb este aici: https://www.facebook.com/groups/220258292083670 \nPsihoterapeutul Bert Hellinger a dezvoltat metoda terapeutică a Constelațiilor Familiale (în traducere corectă din germană ”Poziționări în spațiu ale membrilor familiei”) pornind de la experiența sa îndelungată în lucrul cu oamenii\, și apoi aducând împreună tot ceea ce a găsit el mai eficient în diversele abordări psihoterapeutice (psihoterapia sistemică\, gestalt\, integrativă\, analiza tranzacțională\, psihanaliza\, psihodrama\, psihoterapiile familiale și transgeneraționale\, NLP\, primal scream\, etc.) parcurse în cei 15 ani de formare a sa ca psihoterapeut – aceasta fiind după cei peste 20 de ani de bogată experiență a sa ca preot catolic. Apoi el a îmbunătățit continuu această metodă\, conform cu rezultatele obținute în practica sa de multe decenii de mare succes cu ea. \nÎn decursul anilor\, terapia constelațiilor\, mai ales datorită realizărilor deosebite\, a devenit recunoscută și răspândită în toată lumea. În Brazilia\, Constelațiile familiale sistemice sunt deja folosite oficial în sistemul judiciar și de sănătate\, iar în Germania\, Austria și Africa de Sud metoda Constelațiilor este utilizată nu doar în terapie\, ci și în procese oficiale de mediere și soluționare a conflictelor. \nDenumirea de “constelații” are de-a face cu faptul că metoda presupune\, printre multe altele\, și o așezare în spațiu (în sala de workshop) a unor participanți din grup\, fiecare reprezentând ceva important pentru intenția clientului (de ex. o persoană precum mama\, tata\, copilul\, fratele clientului\, sau altele\, precum simptomul\, boala\, sufletul\, partea traumatizată a clientului\, sau un secret\, comunismul\, o nedreptate\, etc.). În funcție de poziționarea inițială a reprezentanților de către client\, precum și de mișcarea lor liberă ulterioară\, se conturează imagini cu sens pentru client și cei prezenți\, aceste imagini/poziționări în spațiu fiind numite și “constelații”. \nExemple de evenimente grele din trecutul sistemului nostru de familie (de pildă în care au fost implicați frați\, surori\, părinți\, unchi\, bunici\, străbunici\, sau parteneri anteriori) care ne pot afecta profund puteți găsi aici: https://educatieinteleapta.com/evenimente-grele-care-ne…/. \nSuccinte informații despre traume și transmiterea lor intergenerațională puteți găsi și aici: https://educatieinteleapta.com/traume-si-transmiterea…/ \nTestimoniale ale celor care au participat deja la Constelații cu mine puteți găsi aici: https://educatieinteleapta.com/testimoniale/
URL:https://educatieinteleapta.com/eveniment/workshop-de-constelatii-familiale-sistemice-3/
LOCATION:CARANSEBEȘ\, Caraș-Severin\, Romania
ATTACH;FMTTYPE=image/jpeg:https://educatieinteleapta.com/wp-content/uploads/2024/11/feminine-line.jpg
ORGANIZER;CN="Wise Education":MAILTO:teodor.ciomocos@gmail.com
END:VEVENT
END:VCALENDAR